BEGIN:VCALENDAR
VERSION:2.0
PRODID:-//Plone.org//NONSGML plone.app.event//EN
X-WR-TIMEZONE:Brazil/East
BEGIN:VEVENT
SUMMARY:SESSÃO SOLENE DE ENTREGA DE TÍTULO AO DOUTOR JOSÉ ANTÔNIO DOMI
 NGUES DA SILVA.
DTSTART;TZID=Brazil/East;VALUE=DATE-TIME:20161026T193000
DTEND;TZID=Brazil/East;VALUE=DATE-TIME:20161026T220000
DTSTAMP;VALUE=DATE-TIME:20260419T174322Z
UID:54bf308381fe402687b61154804eec75@www.goiania.go.leg.br
CONTACT:VEREADORA CÉLIA VALADÃO
CREATED;VALUE=DATE-TIME:20171208T111312Z
LAST-MODIFIED;VALUE=DATE-TIME:20171208T112925Z
LOCATION:PLENÁRIO TRAJANO GUIMARÃES
URL:https://www.goiania.go.leg.br/sala-de-imprensa/eventos/sessao-solene-d
 e-entrega-de-titulo-ao-doutor-jose-antonio-domingues-da-silva-1
END:VEVENT
BEGIN:VTIMEZONE
TZID:Brazil/East
X-LIC-LOCATION:Brazil/East
BEGIN:DAYLIGHT
DTSTART;VALUE=DATE-TIME:20161016T010000
TZNAME:BRST
TZOFFSETFROM:-0300
TZOFFSETTO:-0200
END:DAYLIGHT
END:VTIMEZONE
END:VCALENDAR
