BEGIN:VCALENDAR
VERSION:2.0
PRODID:-//Plone.org//NONSGML plone.app.event//EN
X-WR-TIMEZONE:Brazil/East
BEGIN:VEVENT
SUMMARY:SESSÃO SOLENE DE ENTREGA DE TÍTULO AO DEPUTADO DIEGO SORGATTO E 
 AO PREFEITO DE ITUMBIARA O SENHOR JOSÉ ANTÔNIO DA SILVA.
DTSTART;TZID=Brazil/East;VALUE=DATE-TIME:20170609T193000
DTEND;TZID=Brazil/East;VALUE=DATE-TIME:20170609T220000
DTSTAMP;VALUE=DATE-TIME:20260419T174451Z
UID:b29492a111c84ca8b9dc306a9782ba7b@www.goiania.go.leg.br
CONTACT:VEREADOR LUCAS KITÃO
CREATED;VALUE=DATE-TIME:20171208T111313Z
LAST-MODIFIED;VALUE=DATE-TIME:20171208T112933Z
LOCATION:PLENÁRIO TRAJANO GUIMARÃES
URL:https://www.goiania.go.leg.br/sala-de-imprensa/eventos/sessao-solene-d
 e-entrega-de-titulo-ao-deputado-diego-sorgatto-e-ao-prefeito-de-itumbiara-
 o-senhor-jose-antonio-da-silva
END:VEVENT
BEGIN:VTIMEZONE
TZID:Brazil/East
X-LIC-LOCATION:Brazil/East
BEGIN:STANDARD
DTSTART;VALUE=DATE-TIME:20170218T230000
TZNAME:BRT
TZOFFSETFROM:-0200
TZOFFSETTO:-0300
END:STANDARD
END:VTIMEZONE
END:VCALENDAR
