BEGIN:VCALENDAR
VERSION:2.0
PRODID:-//Plone.org//NONSGML plone.app.event//EN
X-WR-TIMEZONE:Brazil/East
BEGIN:VEVENT
SUMMARY:SESSÃO SOLENE DE ENTREGA DE TÍTULO A SENHORA STEFANE FIÚZA CAN
 ÇADO MACHADO.
DTSTART;TZID=Brazil/East;VALUE=DATE-TIME:20190404T193000
DTEND;TZID=Brazil/East;VALUE=DATE-TIME:20190404T220000
DTSTAMP;VALUE=DATE-TIME:20260419T133115Z
UID:32abf42f12f54b5ebaca2552c3bb62d0@www.goiania.go.leg.br
CONTACT:VEREADOR EMILSON PEREIRA
CREATED;VALUE=DATE-TIME:20190321T123002Z
LAST-MODIFIED;VALUE=DATE-TIME:20190321T123012Z
LOCATION:PLENÁRIO TRAJANO GUIMARÃES
URL:https://www.goiania.go.leg.br/sala-de-imprensa/eventos/sessao-solene-d
 e-entrega-de-titulo-a-senhora-stefane-fiuza-cancado-machado
END:VEVENT
BEGIN:VTIMEZONE
TZID:Brazil/East
X-LIC-LOCATION:Brazil/East
BEGIN:STANDARD
DTSTART;VALUE=DATE-TIME:20190216T230000
TZNAME:BRT
TZOFFSETFROM:-0200
TZOFFSETTO:-0300
END:STANDARD
END:VTIMEZONE
END:VCALENDAR
