BEGIN:VCALENDAR
VERSION:2.0
PRODID:-//Plone.org//NONSGML plone.app.event//EN
X-WR-TIMEZONE:Brazil/East
BEGIN:VEVENT
SUMMARY:SESSÃO SOLENE DE ENTREGA DE TÍTULO A SENHORA KAMILA ALVES DE AMA
 RANTE VIEIRA.
DTSTART;TZID=Brazil/East;VALUE=DATE-TIME:20220413T190000
DTEND;TZID=Brazil/East;VALUE=DATE-TIME:20220413T220000
DTSTAMP;VALUE=DATE-TIME:20260419T105221Z
UID:c923b27744b143e29d42fa5be960a426@www.goiania.go.leg.br
CONTACT:VEREADOR SANTANA GOMES
CREATED;VALUE=DATE-TIME:20220316T114034Z
LAST-MODIFIED;VALUE=DATE-TIME:20220316T114102Z
LOCATION:PLENÁRIO TRAJANO GUIMARÃES
URL:https://www.goiania.go.leg.br/sala-de-imprensa/eventos/sessao-solene-d
 e-entrega-de-titulo-a-senhora-kamila-alves-de-amarante-vieira
END:VEVENT
BEGIN:VTIMEZONE
TZID:Brazil/East
X-LIC-LOCATION:Brazil/East
BEGIN:STANDARD
DTSTART;VALUE=DATE-TIME:20220219T230000
TZNAME:BRT
TZOFFSETFROM:-0200
TZOFFSETTO:-0300
END:STANDARD
END:VTIMEZONE
END:VCALENDAR
