BEGIN:VCALENDAR
VERSION:2.0
PRODID:-//Plone.org//NONSGML plone.app.event//EN
X-WR-TIMEZONE:Brazil/East
BEGIN:VEVENT
SUMMARY:SESSÃO SOLENE DE ENTREGA DE TÍTULO À SENHORA EVA DANIELA CARVAL
 HO LINO RODRIGUES.
DTSTART;TZID=Brazil/East;VALUE=DATE-TIME:20220428T190000
DTEND;TZID=Brazil/East;VALUE=DATE-TIME:20220428T220000
DTSTAMP;VALUE=DATE-TIME:20260423T053412Z
UID:a8d97edd3ad14767b3b5310094eaf242@www.goiania.go.leg.br
CONTACT:VEREADOR ANSELMO PEREIRA
CREATED;VALUE=DATE-TIME:20220201T142701Z
LAST-MODIFIED;VALUE=DATE-TIME:20220316T114902Z
LOCATION:PLENÁRIO TRAJANO GUIMARÃES
URL:https://www.goiania.go.leg.br/sala-de-imprensa/eventos/sessao-solene-d
 e-entrega-de-titulo-a-senhora-eva-daniela-carvalho-lino-rodrigues-e-sessao
 -especial-em-comemoracao-aos-30-anos-da-igreja-reino-dos-ceus
END:VEVENT
BEGIN:VTIMEZONE
TZID:Brazil/East
X-LIC-LOCATION:Brazil/East
BEGIN:STANDARD
DTSTART;VALUE=DATE-TIME:20220219T230000
TZNAME:BRT
TZOFFSETFROM:-0200
TZOFFSETTO:-0300
END:STANDARD
END:VTIMEZONE
END:VCALENDAR
