BEGIN:VCALENDAR
VERSION:2.0
PRODID:-//Plone.org//NONSGML plone.app.event//EN
X-WR-TIMEZONE:Brazil/East
BEGIN:VEVENT
SUMMARY:SESSÃO SOLENE DE ENTREGA DA OUTORGA DO TÍTULO DE CIDADÃO GOIANI
 ENSE AO SENADOR DO ESTADO DO PARÁ\, SENHOR JOSÉ DA CRUZ MARINHO (ZEQUINH
 A MARINHO). E HOMENAGEM AOS PARAENSES.
DTSTART;TZID=Brazil/East;VALUE=DATE-TIME:20231123T190000
DTEND;TZID=Brazil/East;VALUE=DATE-TIME:20231123T210000
DTSTAMP;VALUE=DATE-TIME:20260419T174508Z
UID:a3d12a59ef3e4e619c6dc0008d3894fb@www.goiania.go.leg.br
CONTACT:VEREADOR IGOR FRANCO
CREATED;VALUE=DATE-TIME:20230927T104808Z
LAST-MODIFIED;VALUE=DATE-TIME:20231025T152955Z
LOCATION:PLENÁRIO TRAJANO GUIMARÃES
URL:https://www.goiania.go.leg.br/sala-de-imprensa/eventos/sessao-solene-d
 e-entrega-da-outorga-do-titulo-de-cidadao-goianiense-ao-senador-do-estado-
 do-para-senhor-jose-da-cruz-marinho-zequinha-marinho
END:VEVENT
BEGIN:VTIMEZONE
TZID:Brazil/East
X-LIC-LOCATION:Brazil/East
BEGIN:DAYLIGHT
DTSTART;VALUE=DATE-TIME:20231015T010000
TZNAME:BRST
TZOFFSETFROM:-0300
TZOFFSETTO:-0200
END:DAYLIGHT
END:VTIMEZONE
END:VCALENDAR
