BEGIN:VCALENDAR
VERSION:2.0
PRODID:-//Plone.org//NONSGML plone.app.event//EN
X-WR-TIMEZONE:Brazil/East
BEGIN:VEVENT
SUMMARY:SESSÃO SOLENE DE ENTREGA DA MEDALHA WANDERLEY MAGALHÃES.
DTSTART;TZID=Brazil/East;VALUE=DATE-TIME:20191107T193000
DTEND;TZID=Brazil/East;VALUE=DATE-TIME:20191107T220000
DTSTAMP;VALUE=DATE-TIME:20260419T190608Z
UID:48dba2bbe9114721a7f9381f19f5ecd2@www.goiania.go.leg.br
CONTACT:VEREADORA SABRINA GARCÊZ
CREATED;VALUE=DATE-TIME:20191003T115553Z
LAST-MODIFIED;VALUE=DATE-TIME:20191104T102410Z
LOCATION:PLENÁRIO TRAJANO GUIMARÃES
URL:https://www.goiania.go.leg.br/sala-de-imprensa/eventos/sessao-solene-d
 e-entrega-da-medalha-wanderley-magalhaes
END:VEVENT
BEGIN:VTIMEZONE
TZID:Brazil/East
X-LIC-LOCATION:Brazil/East
BEGIN:DAYLIGHT
DTSTART;VALUE=DATE-TIME:20191020T010000
TZNAME:BRST
TZOFFSETFROM:-0300
TZOFFSETTO:-0200
END:DAYLIGHT
END:VTIMEZONE
END:VCALENDAR
