BEGIN:VCALENDAR
VERSION:2.0
PRODID:-//Plone.org//NONSGML plone.app.event//EN
X-WR-TIMEZONE:Brazil/East
BEGIN:VEVENT
SUMMARY:SESSÃO SOLENE DE ENTREGA DA MEDALHA SOCIAL EM COMEMORAÇÃO AO DI
 A MUNDIAL DE COMBATE AS DROGAS.
DTSTART;TZID=Brazil/East;VALUE=DATE-TIME:20240624T090000
DTEND;TZID=Brazil/East;VALUE=DATE-TIME:20240624T120000
DTSTAMP;VALUE=DATE-TIME:20260419T190639Z
UID:04ffce3849fa4b649c751bd20fe1519a@www.goiania.go.leg.br
CONTACT:VEREADOR ISAÍAS RIBEIRO
CREATED;VALUE=DATE-TIME:20240605T212738Z
LAST-MODIFIED;VALUE=DATE-TIME:20240605T212801Z
LOCATION:PLENÁRIO TRAJANO GUIMARÃES
URL:https://www.goiania.go.leg.br/sala-de-imprensa/eventos/sessao-solene-d
 e-entrega-da-medalha-social-em-comemoracao-ao-dia-mundial-de-combate-as-dr
 ogas
END:VEVENT
BEGIN:VTIMEZONE
TZID:Brazil/East
X-LIC-LOCATION:Brazil/East
BEGIN:STANDARD
DTSTART;VALUE=DATE-TIME:20240217T230000
TZNAME:BRT
TZOFFSETFROM:-0200
TZOFFSETTO:-0300
END:STANDARD
END:VTIMEZONE
END:VCALENDAR
