BEGIN:VCALENDAR
VERSION:2.0
PRODID:-//Plone.org//NONSGML plone.app.event//EN
X-WR-TIMEZONE:Brazil/East
BEGIN:VEVENT
SUMMARY:SESSÃO SOLENE DE ENTREGA DA MEDALHA PEDRO LUDOVICO TEIXEIRA PARA 
 O SENHOR ADELINO DE CARVALHO LINO.
DTSTART;TZID=Brazil/East;VALUE=DATE-TIME:20230827T180000
DTEND;TZID=Brazil/East;VALUE=DATE-TIME:20230827T210000
DTSTAMP;VALUE=DATE-TIME:20260419T150122Z
UID:2c06ae65d736462fa15447d08f81457b@www.goiania.go.leg.br
CONTACT:VEREADOR ANSELMO PEREIRA
CREATED;VALUE=DATE-TIME:20230803T143336Z
LAST-MODIFIED;VALUE=DATE-TIME:20230803T143344Z
LOCATION:RUA 59 Nº 105 - CENTRO 
URL:https://www.goiania.go.leg.br/sala-de-imprensa/eventos/sessao-solene-d
 e-entrega-da-medalha-pedro-ludovico-teixeira-para-o-senhor-adelino-de-carv
 alho-lino
END:VEVENT
BEGIN:VTIMEZONE
TZID:Brazil/East
X-LIC-LOCATION:Brazil/East
BEGIN:STANDARD
DTSTART;VALUE=DATE-TIME:20230225T230000
TZNAME:BRT
TZOFFSETFROM:-0200
TZOFFSETTO:-0300
END:STANDARD
END:VTIMEZONE
END:VCALENDAR
