BEGIN:VCALENDAR
VERSION:2.0
PRODID:-//Plone.org//NONSGML plone.app.event//EN
X-WR-TIMEZONE:Brazil/East
BEGIN:VEVENT
SUMMARY:SESSÃO SOLENE DE ENTREGA DA MEDALHA PEDRO LUDOVICO TEIXEIRA AO CO
 MANDO DE OPERAÇÕES ESPECIAIS DO EXÉRCITO BRASILEIRO - COPESP.
DTSTART;TZID=Brazil/East;VALUE=DATE-TIME:20200825T170000
DTEND;TZID=Brazil/East;VALUE=DATE-TIME:20200825T210000
DTSTAMP;VALUE=DATE-TIME:20260419T162641Z
UID:e5910a35372b4657808565d372949e8d@www.goiania.go.leg.br
CONTACT:VEREADOR ROGÉRIO CRUZ
CREATED;VALUE=DATE-TIME:20200817T114411Z
LAST-MODIFIED;VALUE=DATE-TIME:20200824T115343Z
LOCATION:FORA DA CÂMARA
URL:https://www.goiania.go.leg.br/sala-de-imprensa/eventos/sessao-solene-d
 e-entrega-da-medalha-pedro-ludovico-teixeira-ao-comando-de-operacoes-espec
 iais-do-exercito-brasileiro-copesp
END:VEVENT
BEGIN:VTIMEZONE
TZID:Brazil/East
X-LIC-LOCATION:Brazil/East
BEGIN:STANDARD
DTSTART;VALUE=DATE-TIME:20200215T230000
TZNAME:BRT
TZOFFSETFROM:-0200
TZOFFSETTO:-0300
END:STANDARD
END:VTIMEZONE
END:VCALENDAR
