BEGIN:VCALENDAR
VERSION:2.0
PRODID:-//Plone.org//NONSGML plone.app.event//EN
X-WR-TIMEZONE:Brazil/East
BEGIN:VEVENT
SUMMARY:SESSÃO SOLENE DE ENTREGA DA MEDALHA PEDRO LUDOVICO TEIXEIRA AO AR
 CEBISPO DE GOIÂNIA DOM JOÃO JUSTINO DE MEDEIROS SILVA.
DTSTART;TZID=Brazil/East;VALUE=DATE-TIME:20220526T100000
DTEND;TZID=Brazil/East;VALUE=DATE-TIME:20220526T110000
DTSTAMP;VALUE=DATE-TIME:20260419T190750Z
UID:700735234a44403f9f211d08194f5804@www.goiania.go.leg.br
CONTACT:VEREADOR ANSELMO PEREIRA
CREATED;VALUE=DATE-TIME:20220406T145840Z
LAST-MODIFIED;VALUE=DATE-TIME:20220512T121930Z
LOCATION:PLENÁRIO TRAJANO GUIMARÃES
URL:https://www.goiania.go.leg.br/sala-de-imprensa/eventos/sessao-solene-d
 e-entrega-da-medalha-pedro-ludovico-teixeira-ao-arcebispo-de-goiania-dom-j
 oao-justino-de-medeiros-silva
END:VEVENT
BEGIN:VTIMEZONE
TZID:Brazil/East
X-LIC-LOCATION:Brazil/East
BEGIN:STANDARD
DTSTART;VALUE=DATE-TIME:20220219T230000
TZNAME:BRT
TZOFFSETFROM:-0200
TZOFFSETTO:-0300
END:STANDARD
END:VTIMEZONE
END:VCALENDAR
