BEGIN:VCALENDAR
VERSION:2.0
PRODID:-//Plone.org//NONSGML plone.app.event//EN
X-WR-TIMEZONE:Brazil/East
BEGIN:VEVENT
SUMMARY:SESSÃO SOLENE DE ENTREGA DA MEDALHA DO MÉRITO DE COMUNICAÇÃO W
 ILMAR ALVES -  PARA O SENHOR ILTON BELCHIOR CRUVINEL.
DTSTART;TZID=Brazil/East;VALUE=DATE-TIME:20180917T090000
DTEND;TZID=Brazil/East;VALUE=DATE-TIME:20180917T120000
DTSTAMP;VALUE=DATE-TIME:20260421T070622Z
UID:9cebaf55fdc545d38fa053b5c5d16ec5@www.goiania.go.leg.br
CONTACT:VEREADOR DR. PAULO DAHER
CREATED;VALUE=DATE-TIME:20180903T154859Z
LAST-MODIFIED;VALUE=DATE-TIME:20180903T154905Z
LOCATION:PLENÁRIO TRAJANO GUIMARÃES
URL:https://www.goiania.go.leg.br/sala-de-imprensa/eventos/sessao-solene-d
 e-entrega-da-medalha-do-merito-de-comunicacao-wilmar-alves-para-o-senhor-i
 lton-belchior-cruvinel
END:VEVENT
BEGIN:VTIMEZONE
TZID:Brazil/East
X-LIC-LOCATION:Brazil/East
BEGIN:STANDARD
DTSTART;VALUE=DATE-TIME:20180217T230000
TZNAME:BRT
TZOFFSETFROM:-0200
TZOFFSETTO:-0300
END:STANDARD
END:VTIMEZONE
END:VCALENDAR
