BEGIN:VCALENDAR
VERSION:2.0
PRODID:-//Plone.org//NONSGML plone.app.event//EN
X-WR-TIMEZONE:Brazil/East
BEGIN:VEVENT
SUMMARY:SESSÃO SOLENE DE ENTREGA DA MEDALHA ANÔNIO GONÇALVES POLÍCIA C
 IVIL.
DTSTART;TZID=Brazil/East;VALUE=DATE-TIME:20230818T170000
DTEND;TZID=Brazil/East;VALUE=DATE-TIME:20230818T190000
DTSTAMP;VALUE=DATE-TIME:20260419T190436Z
UID:08fc9df967804f1795ed025fb5c10b7f@www.goiania.go.leg.br
CONTACT:VEREADORA GABRIELA RODART
CREATED;VALUE=DATE-TIME:20230519T120734Z
LAST-MODIFIED;VALUE=DATE-TIME:20230816T134439Z
LOCATION:PLENÁRIO TRAJANO GUIMARÃES
URL:https://www.goiania.go.leg.br/sala-de-imprensa/eventos/sessao-solene-d
 e-entrega-da-medalha-anonio-goncalves-policia-civil
END:VEVENT
BEGIN:VTIMEZONE
TZID:Brazil/East
X-LIC-LOCATION:Brazil/East
BEGIN:STANDARD
DTSTART;VALUE=DATE-TIME:20230225T230000
TZNAME:BRT
TZOFFSETFROM:-0200
TZOFFSETTO:-0300
END:STANDARD
END:VTIMEZONE
END:VCALENDAR
