BEGIN:VCALENDAR
VERSION:2.0
PRODID:-//Plone.org//NONSGML plone.app.event//EN
X-WR-TIMEZONE:Brazil/East
BEGIN:VEVENT
SUMMARY:SESSÃO SOLENE DE ENTREGA DA COMENDA LITERÁRIA ANTÔNIO ALMEIDA.
DTSTART;TZID=Brazil/East;VALUE=DATE-TIME:20240820T190000
DTEND;TZID=Brazil/East;VALUE=DATE-TIME:20240820T220000
DTSTAMP;VALUE=DATE-TIME:20260421T081010Z
UID:5b5e3519305640d7835fbec0bd10c943@www.goiania.go.leg.br
CONTACT:VEREADOR ANSELMO PEREIRA
CREATED;VALUE=DATE-TIME:20240119T135903Z
LAST-MODIFIED;VALUE=DATE-TIME:20240119T135959Z
LOCATION:PLENÁRIO TRAJANO GUIMARÃES
URL:https://www.goiania.go.leg.br/sala-de-imprensa/eventos/sessao-solene-d
 e-entrega-da-comenda-literaria-antonio-almeida
END:VEVENT
BEGIN:VTIMEZONE
TZID:Brazil/East
X-LIC-LOCATION:Brazil/East
BEGIN:STANDARD
DTSTART;VALUE=DATE-TIME:20240217T230000
TZNAME:BRT
TZOFFSETFROM:-0200
TZOFFSETTO:-0300
END:STANDARD
END:VTIMEZONE
END:VCALENDAR
