BEGIN:VCALENDAR
VERSION:2.0
PRODID:-//Plone.org//NONSGML plone.app.event//EN
X-WR-TIMEZONE:Brazil/East
BEGIN:VEVENT
SUMMARY:SESSÃO SOLENE DE EM HOMENAGEM AO DIA INTERNACIONAL DA MULHER E EN
 TREGA DA COMENDA CONSUELO NASSER.
DTSTART;TZID=Brazil/East;VALUE=DATE-TIME:20200310T090000
DTEND;TZID=Brazil/East;VALUE=DATE-TIME:20200310T120000
DTSTAMP;VALUE=DATE-TIME:20260419T190608Z
UID:c0ac4af44d484d7cb5e05e2a46337b59@www.goiania.go.leg.br
CONTACT:VEREADORA DRA. CRISTINA\, SABRINA\, TATIANA\, PRICILLA E LEIA
CREATED;VALUE=DATE-TIME:20200219T105727Z
LAST-MODIFIED;VALUE=DATE-TIME:20200219T105742Z
LOCATION:PLENÁRIO TRAJANO GUIMARÃES
URL:https://www.goiania.go.leg.br/sala-de-imprensa/eventos/sessao-solene-d
 e-em-homenagem-ao-dia-internacional-da-mulher-e-entrega-da-comenda-consuel
 o-nasser
END:VEVENT
BEGIN:VTIMEZONE
TZID:Brazil/East
X-LIC-LOCATION:Brazil/East
BEGIN:STANDARD
DTSTART;VALUE=DATE-TIME:20200215T230000
TZNAME:BRT
TZOFFSETFROM:-0200
TZOFFSETTO:-0300
END:STANDARD
END:VTIMEZONE
END:VCALENDAR
