BEGIN:VCALENDAR
VERSION:2.0
PRODID:-//Plone.org//NONSGML plone.app.event//EN
X-WR-TIMEZONE:Brazil/East
BEGIN:VEVENT
SUMMARY:SESSÃO SOLENE DA OUTORGA DO TÍTULO DE CIDADÃO GOIANIENSE AO SEN
 HOR JOSÉ DO CARMO CASTRO E SILVA.
DTSTART;TZID=Brazil/East;VALUE=DATE-TIME:20231207T110000
DTEND;TZID=Brazil/East;VALUE=DATE-TIME:20231207T130000
DTSTAMP;VALUE=DATE-TIME:20260421T085431Z
UID:64f498ac23bb422b96e25b4d5229d90c@www.goiania.go.leg.br
CONTACT:VEREADOR ANSELMO PEREIRA
CREATED;VALUE=DATE-TIME:20231130T142638Z
LAST-MODIFIED;VALUE=DATE-TIME:20231130T142745Z
LOCATION:SALA DE REUNIÃO DA PRESIDÊNCIA
URL:https://www.goiania.go.leg.br/sala-de-imprensa/eventos/sessao-solene-d
 a-outorga-do-titulo-de-cidadao-goianiense-ao-senhor-jose-do-carmo-castro-e
 -silva
END:VEVENT
BEGIN:VTIMEZONE
TZID:Brazil/East
X-LIC-LOCATION:Brazil/East
BEGIN:DAYLIGHT
DTSTART;VALUE=DATE-TIME:20231015T010000
TZNAME:BRST
TZOFFSETFROM:-0300
TZOFFSETTO:-0200
END:DAYLIGHT
END:VTIMEZONE
END:VCALENDAR
