BEGIN:VCALENDAR
VERSION:2.0
PRODID:-//Plone.org//NONSGML plone.app.event//EN
X-WR-TIMEZONE:Brazil/East
BEGIN:VEVENT
SUMMARY:SESSÃO SOLENE DA OUTORGA DE TÍTULO HONORÍFICO DE CIDADÃO GOIAN
 IENSE AO SENHOR EDISON JOSÉ DUTRA.
DTSTART;TZID=Brazil/East;VALUE=DATE-TIME:20240326T170000
DTEND;TZID=Brazil/East;VALUE=DATE-TIME:20240326T190000
DTSTAMP;VALUE=DATE-TIME:20260419T094215Z
UID:41370d2305454b10bd6137e58ca73ce6@www.goiania.go.leg.br
CONTACT:VEREADOR BESSA
CREATED;VALUE=DATE-TIME:20240314T213208Z
LAST-MODIFIED;VALUE=DATE-TIME:20240314T213301Z
LOCATION:PLENÁRIO TRAJANO GUIMARÃES
URL:https://www.goiania.go.leg.br/sala-de-imprensa/eventos/sessao-solene-d
 a-outorga-de-titulo-honorifico-de-cidadao-goianiense-ao-senhor-edison-jose
 -dutra
END:VEVENT
BEGIN:VTIMEZONE
TZID:Brazil/East
X-LIC-LOCATION:Brazil/East
BEGIN:STANDARD
DTSTART;VALUE=DATE-TIME:20240217T230000
TZNAME:BRT
TZOFFSETFROM:-0200
TZOFFSETTO:-0300
END:STANDARD
END:VTIMEZONE
END:VCALENDAR
