BEGIN:VCALENDAR
VERSION:2.0
PRODID:-//Plone.org//NONSGML plone.app.event//EN
X-WR-TIMEZONE:Brazil/East
BEGIN:VEVENT
SUMMARY:SESSÃO SOLENE DA OUTORGA DE TÍTULO DE CIDADÃO GOIANIENSE AOS SE
 NHORES JOÃO BATISTA MOREIRA\, REYNALDO SOARES DA FONSESCA E A SENHORA MAR
 IA DAS GRAÇAS P. SOARES AMORIM.
DTSTART;TZID=Brazil/East;VALUE=DATE-TIME:20250516T140000
DTEND;TZID=Brazil/East;VALUE=DATE-TIME:20250516T170000
DTSTAMP;VALUE=DATE-TIME:20260419T203008Z
UID:fd7c309b641c4b19875e005608eb17c8@www.goiania.go.leg.br
CONTACT:VEREADOR IGOR FRANCO
CREATED;VALUE=DATE-TIME:20250507T123148Z
LAST-MODIFIED;VALUE=DATE-TIME:20250507T123255Z
LOCATION:PLENÁRIO TRAJANO GUIMARÃES
URL:https://www.goiania.go.leg.br/sala-de-imprensa/eventos/sessao-solene-d
 a-outorga-de-titulo-de-cidadao-goianiense-aos-senhores-joao-batista-moreir
 a-reynaldo-soares-da-fonsesca-e-a-senhora-maria-das-gracas-p-soares-amorim
END:VEVENT
BEGIN:VTIMEZONE
TZID:Brazil/East
X-LIC-LOCATION:Brazil/East
BEGIN:STANDARD
DTSTART;VALUE=DATE-TIME:20250215T230000
TZNAME:BRT
TZOFFSETFROM:-0200
TZOFFSETTO:-0300
END:STANDARD
END:VTIMEZONE
END:VCALENDAR
