BEGIN:VCALENDAR
VERSION:2.0
PRODID:-//Plone.org//NONSGML plone.app.event//EN
X-WR-TIMEZONE:Brazil/East
BEGIN:VEVENT
SUMMARY:SESSÃO SOLENE DA OUTORGA DE TÍTULO DE CIDADÃO GOIANIENSE AOS SE
 NHORES: ITAMAR LIMA  E AO SENHOR ABÍLIO WOLNEY ALVES NETO.
DTSTART;TZID=Brazil/East;VALUE=DATE-TIME:20250314T090000
DTEND;TZID=Brazil/East;VALUE=DATE-TIME:20250314T120000
DTSTAMP;VALUE=DATE-TIME:20260419T203457Z
UID:0b18ba5cb4a34cc394dad2f57ef9f9d4@www.goiania.go.leg.br
CONTACT:VEREADOR ANSELMO PEREIRA
CREATED;VALUE=DATE-TIME:20250218T140255Z
LAST-MODIFIED;VALUE=DATE-TIME:20250218T140307Z
LOCATION:PLENÁRIO TRAJANO GUIMARÃES
URL:https://www.goiania.go.leg.br/sala-de-imprensa/eventos/sessao-solene-d
 a-outorga-de-titulo-de-cidadao-goianiense-aos-senhores-itamar-lima-e-ao-se
 nhor-abilio-wolney-alves-neto
END:VEVENT
BEGIN:VTIMEZONE
TZID:Brazil/East
X-LIC-LOCATION:Brazil/East
BEGIN:STANDARD
DTSTART;VALUE=DATE-TIME:20250215T230000
TZNAME:BRT
TZOFFSETFROM:-0200
TZOFFSETTO:-0300
END:STANDARD
END:VTIMEZONE
END:VCALENDAR
