BEGIN:VCALENDAR
VERSION:2.0
PRODID:-//Plone.org//NONSGML plone.app.event//EN
X-WR-TIMEZONE:Brazil/East
BEGIN:VEVENT
SUMMARY:SESSÃO SOLENE DA ENTREGA DA MEDALHA FRANCISCO JANUÁRIO EM COMEMO
 RAÇÃO AOS 166 ANOS DA PM/GO.
DTSTART;TZID=Brazil/East;VALUE=DATE-TIME:20240701T190000
DTEND;TZID=Brazil/East;VALUE=DATE-TIME:20240701T220000
DTSTAMP;VALUE=DATE-TIME:20260419T231545Z
UID:fc8699f187014101bcd23f2d05b56e27@www.goiania.go.leg.br
CONTACT:VEREADOR ANSELMO PEREIRA
CREATED;VALUE=DATE-TIME:20240119T123712Z
LAST-MODIFIED;VALUE=DATE-TIME:20240119T123719Z
LOCATION:PLENÁRIO TRAJANO GUIMARÃES
URL:https://www.goiania.go.leg.br/sala-de-imprensa/eventos/sessao-solene-d
 a-entrega-da-medalha-francisco-januario-em-comemoracao-aos-166-anos-da-pm-
 go
END:VEVENT
BEGIN:VTIMEZONE
TZID:Brazil/East
X-LIC-LOCATION:Brazil/East
BEGIN:STANDARD
DTSTART;VALUE=DATE-TIME:20240217T230000
TZNAME:BRT
TZOFFSETFROM:-0200
TZOFFSETTO:-0300
END:STANDARD
END:VTIMEZONE
END:VCALENDAR
