BEGIN:VCALENDAR
VERSION:2.0
PRODID:-//Plone.org//NONSGML plone.app.event//EN
X-WR-TIMEZONE:Brazil/East
BEGIN:VEVENT
SUMMARY:SESSÃO SOLENE DA ENTREGA DA COMENDA VENERANDO DE FREITAS AO MAJOR
  ALEXANDRE SALIBA SALES.
DTSTART;TZID=Brazil/East;VALUE=DATE-TIME:20201222T100000
DTEND;TZID=Brazil/East;VALUE=DATE-TIME:20201222T120000
DTSTAMP;VALUE=DATE-TIME:20260419T202746Z
UID:26d2dcc90d4344028ba46720adb9a650@www.goiania.go.leg.br
CONTACT:VEREADOR ROGÉRIO CRUZ
CREATED;VALUE=DATE-TIME:20201217T150132Z
LAST-MODIFIED;VALUE=DATE-TIME:20201217T150210Z
LOCATION:PLENÁRIO TRAJANO GUIMARÃES
URL:https://www.goiania.go.leg.br/sala-de-imprensa/eventos/sessao-solene-d
 a-entrega-da-comenda-venerando-de-freitas-ao-major-alexandre-saliba-sales
END:VEVENT
BEGIN:VTIMEZONE
TZID:Brazil/East
X-LIC-LOCATION:Brazil/East
BEGIN:DAYLIGHT
DTSTART;VALUE=DATE-TIME:20201018T010000
TZNAME:BRST
TZOFFSETFROM:-0300
TZOFFSETTO:-0200
END:DAYLIGHT
END:VTIMEZONE
END:VCALENDAR
