BEGIN:VCALENDAR
VERSION:2.0
PRODID:-//Plone.org//NONSGML plone.app.event//EN
X-WR-TIMEZONE:Brazil/East
BEGIN:VEVENT
SUMMARY:SESSÃO SOLENE DA ENTREGA DA COMENDA HONESTINO GUIMARÃES E HOMENA
 GEM AO DIA DA CULTURA.
DTSTART;TZID=Brazil/East;VALUE=DATE-TIME:20220811T100000
DTEND;TZID=Brazil/East;VALUE=DATE-TIME:20220811T120000
DTSTAMP;VALUE=DATE-TIME:20260419T231441Z
UID:0570f9053029452798177776b77b18dd@www.goiania.go.leg.br
CONTACT:VEREADOR MARLON TEIXEIRA
CREATED;VALUE=DATE-TIME:20220406T144356Z
LAST-MODIFIED;VALUE=DATE-TIME:20220406T145659Z
LOCATION:PLENÁRIO TRAJANO GUIMARÃES
URL:https://www.goiania.go.leg.br/sala-de-imprensa/eventos/sessao-solene-d
 a-entrega-da-comenda-honestino-guimaraes-e-homenagem-ao-dia-da-cultura
END:VEVENT
BEGIN:VTIMEZONE
TZID:Brazil/East
X-LIC-LOCATION:Brazil/East
BEGIN:STANDARD
DTSTART;VALUE=DATE-TIME:20220219T230000
TZNAME:BRT
TZOFFSETFROM:-0200
TZOFFSETTO:-0300
END:STANDARD
END:VTIMEZONE
END:VCALENDAR
