BEGIN:VCALENDAR
VERSION:2.0
PRODID:-//Plone.org//NONSGML plone.app.event//EN
X-WR-TIMEZONE:Brazil/East
BEGIN:VEVENT
SUMMARY:SESSÃO SOLENE DA ENTREGA DA COMENDA FÉLIX PERILLO AO DIA DO FARM
 ACÊUTICO.
DTSTART;TZID=Brazil/East;VALUE=DATE-TIME:20230925T190000
DTEND;TZID=Brazil/East;VALUE=DATE-TIME:20230925T210000
DTSTAMP;VALUE=DATE-TIME:20260419T133142Z
UID:2c33a4d049b54befb4b859bd61b15b69@www.goiania.go.leg.br
CONTACT:VEREADOR EDGAR DUARTE E ANSELMO PEREIRA
CREATED;VALUE=DATE-TIME:20230217T112441Z
LAST-MODIFIED;VALUE=DATE-TIME:20230912T104315Z
LOCATION:PLENÁRIO TRAJANO GUIMARÃES
URL:https://www.goiania.go.leg.br/sala-de-imprensa/eventos/sessao-solene-d
 a-entrega-da-comenda-felix-perillo-ao-dia-do-farmaceutico
END:VEVENT
BEGIN:VTIMEZONE
TZID:Brazil/East
X-LIC-LOCATION:Brazil/East
BEGIN:STANDARD
DTSTART;VALUE=DATE-TIME:20230225T230000
TZNAME:BRT
TZOFFSETFROM:-0200
TZOFFSETTO:-0300
END:STANDARD
END:VTIMEZONE
END:VCALENDAR
