BEGIN:VCALENDAR
VERSION:2.0
PRODID:-//Plone.org//NONSGML plone.app.event//EN
X-WR-TIMEZONE:Brazil/East
BEGIN:VEVENT
SUMMARY:SESSÃO SOLENE DA COMENDA FÉLIX PERILLO EM HOMENAGEM AO DIA DO  F
 ARMACÊUTICO
DTSTART;TZID=Brazil/East;VALUE=DATE-TIME:20181003T193000
DTEND;TZID=Brazil/East;VALUE=DATE-TIME:20181003T220000
DTSTAMP;VALUE=DATE-TIME:20260419T220115Z
UID:1d8e4f9ce5ab4e92bc9ece39a9f609df@www.goiania.go.leg.br
CONTACT:VEREADOR ANSELMO PEREIRA
CREATED;VALUE=DATE-TIME:20180409T134821Z
LAST-MODIFIED;VALUE=DATE-TIME:20180911T143049Z
LOCATION:PLENÁRIO TRAJANO GUIMARÃES
URL:https://www.goiania.go.leg.br/sala-de-imprensa/eventos/sessao-solene-d
 a-comenda-felix-perillo-em-homenagem-ao-dia-do-farmaceutico
END:VEVENT
BEGIN:VTIMEZONE
TZID:Brazil/East
X-LIC-LOCATION:Brazil/East
BEGIN:STANDARD
DTSTART;VALUE=DATE-TIME:20180217T230000
TZNAME:BRT
TZOFFSETFROM:-0200
TZOFFSETTO:-0300
END:STANDARD
END:VTIMEZONE
END:VCALENDAR
