BEGIN:VCALENDAR
VERSION:2.0
PRODID:-//Plone.org//NONSGML plone.app.event//EN
X-WR-TIMEZONE:Brazil/East
BEGIN:VEVENT
SUMMARY:SESSÃO SOLENE DA COMENDA FÉLIX PERILLO EM COMEMORAÇÃO AO DIA D
 O FARMACÊUTICO.
DTSTART;TZID=Brazil/East;VALUE=DATE-TIME:20240925T190000
DTEND;TZID=Brazil/East;VALUE=DATE-TIME:20240925T220000
DTSTAMP;VALUE=DATE-TIME:20260419T232804Z
UID:37d8e0870a4b41658bdd300e2ac1ad94@www.goiania.go.leg.br
CONTACT:VEREADOR ANSELMO PEREIRA E EDGAR DUARTE
CREATED;VALUE=DATE-TIME:20240119T142919Z
LAST-MODIFIED;VALUE=DATE-TIME:20240119T143058Z
LOCATION:PLENÁRIO TRAJANO GUIMARÃES
URL:https://www.goiania.go.leg.br/sala-de-imprensa/eventos/sessao-solene-d
 a-comenda-felix-perillo-em-comemoracao-ao-dia-do-farmaceutico
END:VEVENT
BEGIN:VTIMEZONE
TZID:Brazil/East
X-LIC-LOCATION:Brazil/East
BEGIN:STANDARD
DTSTART;VALUE=DATE-TIME:20240217T230000
TZNAME:BRT
TZOFFSETFROM:-0200
TZOFFSETTO:-0300
END:STANDARD
END:VTIMEZONE
END:VCALENDAR
