BEGIN:VCALENDAR
VERSION:2.0
PRODID:-//Plone.org//NONSGML plone.app.event//EN
X-WR-TIMEZONE:Brazil/East
BEGIN:VEVENT
SUMMARY:SESSÃO SOLENE DA COMENDA ELIAS BUFAIÇAL EM HOMENAGEM AOS CORRETO
 R DE IMÓVEIS.
DTSTART;TZID=Brazil/East;VALUE=DATE-TIME:20260827T190000
DTEND;TZID=Brazil/East;VALUE=DATE-TIME:20260827T220000
DTSTAMP;VALUE=DATE-TIME:20260420T004618Z
UID:9aab0deae9064f0899a208482bf9f2c5@www.goiania.go.leg.br
CONTACT:VEREADOR ANSELMO PEREIRA
CREATED;VALUE=DATE-TIME:20260212T123349Z
LAST-MODIFIED;VALUE=DATE-TIME:20260212T123406Z
LOCATION:PLENÁRIO TRAJANO GUIMARÃES
URL:https://www.goiania.go.leg.br/sala-de-imprensa/eventos/sessao-solene-d
 a-comenda-elias-bufaical-em-homenagem-aos-corretor-de-imoveis
END:VEVENT
BEGIN:VTIMEZONE
TZID:Brazil/East
X-LIC-LOCATION:Brazil/East
BEGIN:STANDARD
DTSTART;VALUE=DATE-TIME:20260221T230000
TZNAME:BRT
TZOFFSETFROM:-0200
TZOFFSETTO:-0300
END:STANDARD
END:VTIMEZONE
END:VCALENDAR
