BEGIN:VCALENDAR
VERSION:2.0
PRODID:-//Plone.org//NONSGML plone.app.event//EN
X-WR-TIMEZONE:Brazil/East
BEGIN:VEVENT
SUMMARY:SESSÃO SOLENE COMENDA LEOLÍDIO DI RAMOS CAIADO E DIA MUNDIAL DO 
 MEIO AMBIENTE.
DTSTART;TZID=Brazil/East;VALUE=DATE-TIME:20210601T170000
DTEND;TZID=Brazil/East;VALUE=DATE-TIME:20210601T180000
DTSTAMP;VALUE=DATE-TIME:20260419T220128Z
UID:b6799d96109a4adea07b0b8abf44d950@www.goiania.go.leg.br
CONTACT:VEREADOR ANSELMO PEREIRA
CREATED;VALUE=DATE-TIME:20210112T112846Z
LAST-MODIFIED;VALUE=DATE-TIME:20210514T130603Z
LOCATION:PLENÁRIO TRAJANO GUIMARÃES
URL:https://www.goiania.go.leg.br/sala-de-imprensa/eventos/sessao-solene-c
 omenda-leolidio-di-ramos-caiado-e-dia-mundial-do-meio-ambiente
END:VEVENT
BEGIN:VTIMEZONE
TZID:Brazil/East
X-LIC-LOCATION:Brazil/East
BEGIN:STANDARD
DTSTART;VALUE=DATE-TIME:20210220T230000
TZNAME:BRT
TZOFFSETFROM:-0200
TZOFFSETTO:-0300
END:STANDARD
END:VTIMEZONE
END:VCALENDAR
