BEGIN:VCALENDAR
VERSION:2.0
PRODID:-//Plone.org//NONSGML plone.app.event//EN
X-WR-TIMEZONE:Brazil/East
BEGIN:VEVENT
SUMMARY:SESSÃO SOLENE COMENDA DO MÉRITO DE CULTURA JÚLIO VILELA E DIA D
 A CULTURA.
DTSTART;TZID=Brazil/East;VALUE=DATE-TIME:20210624T170000
DTEND;TZID=Brazil/East;VALUE=DATE-TIME:20210624T180000
DTSTAMP;VALUE=DATE-TIME:20260419T231442Z
UID:6364dc2c97234d96a3cbb008ae223636@www.goiania.go.leg.br
CONTACT:VEREADOR ANSELMO PEREIRA
CREATED;VALUE=DATE-TIME:20210112T113922Z
LAST-MODIFIED;VALUE=DATE-TIME:20210514T134500Z
LOCATION:PLENÁRIO TRAJANO GUIMARÃES
URL:https://www.goiania.go.leg.br/sala-de-imprensa/eventos/sessao-solene-c
 omenda-do-merito-de-cultura-julio-vilela-e-dia-da-cultura
END:VEVENT
BEGIN:VTIMEZONE
TZID:Brazil/East
X-LIC-LOCATION:Brazil/East
BEGIN:STANDARD
DTSTART;VALUE=DATE-TIME:20210220T230000
TZNAME:BRT
TZOFFSETFROM:-0200
TZOFFSETTO:-0300
END:STANDARD
END:VTIMEZONE
END:VCALENDAR
