BEGIN:VCALENDAR
VERSION:2.0
PRODID:-//Plone.org//NONSGML plone.app.event//EN
X-WR-TIMEZONE:Brazil/East
BEGIN:VEVENT
SUMMARY:SESSÃO ESPECIALA EM COMEMORAÇÃO AO ANIVERSÁRIO JARDIM GUANABAR
 A.
DTSTART;TZID=Brazil/East;VALUE=DATE-TIME:20220318T170000
DTEND;TZID=Brazil/East;VALUE=DATE-TIME:20220318T180000
DTSTAMP;VALUE=DATE-TIME:20260419T231442Z
UID:40f8ee0e1de142abaca4c1d67690a520@www.goiania.go.leg.br
CONTACT:VEREADOR EDGAR DUARTE
CREATED;VALUE=DATE-TIME:20220210T145620Z
LAST-MODIFIED;VALUE=DATE-TIME:20220216T142248Z
LOCATION:PLENÁRIO TRAJANO GUIMARÃES
URL:https://www.goiania.go.leg.br/sala-de-imprensa/eventos/sessao-especial
 a-em-comemoracao-ao-aniversario-jardim-guanabara
END:VEVENT
BEGIN:VTIMEZONE
TZID:Brazil/East
X-LIC-LOCATION:Brazil/East
BEGIN:STANDARD
DTSTART;VALUE=DATE-TIME:20220219T230000
TZNAME:BRT
TZOFFSETFROM:-0200
TZOFFSETTO:-0300
END:STANDARD
END:VTIMEZONE
END:VCALENDAR
