BEGIN:VCALENDAR
VERSION:2.0
PRODID:-//Plone.org//NONSGML plone.app.event//EN
X-WR-TIMEZONE:Brazil/East
BEGIN:VEVENT
SUMMARY:SESSÃO ESPECIAL VIRTUAL EM COMEMORAÇÃO AOS 40 ANOS DO FLAMBOYAN
 T SHOPPING CENTER.
DTSTART;TZID=Brazil/East;VALUE=DATE-TIME:20211129T103000
DTEND;TZID=Brazil/East;VALUE=DATE-TIME:20211129T120000
DTSTAMP;VALUE=DATE-TIME:20260419T232256Z
UID:92bba9d98d624747b2b9142093811fbb@www.goiania.go.leg.br
CONTACT:VEREADORES ANSELMO PEREIRA E SABRINA GARCEZ
CREATED;VALUE=DATE-TIME:20211026T135453Z
LAST-MODIFIED;VALUE=DATE-TIME:20211110T151514Z
LOCATION:PLENÁRIO TRAJANO GUIMARÃES
URL:https://www.goiania.go.leg.br/sala-de-imprensa/eventos/sessao-especial
 -virtual-em-comemoracao-aos-40-anos-do-flamboyant-shopping-center
END:VEVENT
BEGIN:VTIMEZONE
TZID:Brazil/East
X-LIC-LOCATION:Brazil/East
BEGIN:DAYLIGHT
DTSTART;VALUE=DATE-TIME:20211017T010000
TZNAME:BRST
TZOFFSETFROM:-0300
TZOFFSETTO:-0200
END:DAYLIGHT
END:VTIMEZONE
END:VCALENDAR
