BEGIN:VCALENDAR
VERSION:2.0
PRODID:-//Plone.org//NONSGML plone.app.event//EN
X-WR-TIMEZONE:Brazil/East
BEGIN:VEVENT
SUMMARY:SESSÃO ESPECIAL REMOTA EM COMEMORAÇÃO AO DIA INTERNACIONAL DA J
 UVENTUDE.
DTSTART;TZID=Brazil/East;VALUE=DATE-TIME:20200812T193000
DTEND;TZID=Brazil/East;VALUE=DATE-TIME:20200812T220000
DTSTAMP;VALUE=DATE-TIME:20260419T231421Z
UID:e2629b8e67234fa09d81de11314b8f09@www.goiania.go.leg.br
CONTACT:VEREADOR EMILSON PEREIRA
CREATED;VALUE=DATE-TIME:20200803T134344Z
LAST-MODIFIED;VALUE=DATE-TIME:20200803T134358Z
LOCATION:PLENÁRIO TRAJANO GUIMARÃES
URL:https://www.goiania.go.leg.br/sala-de-imprensa/eventos/sessao-especial
 -remota-em-comemoracao-ao-dia-internacional-da-juventude
END:VEVENT
BEGIN:VTIMEZONE
TZID:Brazil/East
X-LIC-LOCATION:Brazil/East
BEGIN:STANDARD
DTSTART;VALUE=DATE-TIME:20200215T230000
TZNAME:BRT
TZOFFSETFROM:-0200
TZOFFSETTO:-0300
END:STANDARD
END:VTIMEZONE
END:VCALENDAR
