BEGIN:VCALENDAR
VERSION:2.0
PRODID:-//Plone.org//NONSGML plone.app.event//EN
X-WR-TIMEZONE:Brazil/East
BEGIN:VEVENT
SUMMARY:SESSÃO ESPECIAL PRÊMIO MULHERES EMPREENDEDORAS.
DTSTART;TZID=Brazil/East;VALUE=DATE-TIME:20200323T090000
DTEND;TZID=Brazil/East;VALUE=DATE-TIME:20200323T120000
DTSTAMP;VALUE=DATE-TIME:20260419T231325Z
UID:c6ad1669c341443699c7ca2e80621e96@www.goiania.go.leg.br
CONTACT:VEREADOR ROGÉRIO CRUZ
CREATED;VALUE=DATE-TIME:20200221T125018Z
LAST-MODIFIED;VALUE=DATE-TIME:20200221T125030Z
LOCATION:PLENÁRIO TRAJANO GUIMARÃES
URL:https://www.goiania.go.leg.br/sala-de-imprensa/eventos/sessao-especial
 -premio-mulheres-empreendedoras
END:VEVENT
BEGIN:VTIMEZONE
TZID:Brazil/East
X-LIC-LOCATION:Brazil/East
BEGIN:STANDARD
DTSTART;VALUE=DATE-TIME:20200215T230000
TZNAME:BRT
TZOFFSETFROM:-0200
TZOFFSETTO:-0300
END:STANDARD
END:VTIMEZONE
END:VCALENDAR
