BEGIN:VCALENDAR
VERSION:2.0
PRODID:-//Plone.org//NONSGML plone.app.event//EN
X-WR-TIMEZONE:Brazil/East
BEGIN:VEVENT
SUMMARY:SESSÃO ESPECIAL PARA HOMENAGENS "MULHERES QUE INSPIRAM".
DTSTART;TZID=Brazil/East;VALUE=DATE-TIME:20230331T090000
DTEND;TZID=Brazil/East;VALUE=DATE-TIME:20230331T120000
DTSTAMP;VALUE=DATE-TIME:20260419T233058Z
UID:b98167c10a5b41e7af493d0f7e575b5e@www.goiania.go.leg.br
CONTACT:VEREADORA KATIA MARIA
CREATED;VALUE=DATE-TIME:20230315T205215Z
LAST-MODIFIED;VALUE=DATE-TIME:20230315T205257Z
LOCATION:PLENÁRIO TRAJANO GUIMARÃES
URL:https://www.goiania.go.leg.br/sala-de-imprensa/eventos/sessao-especial
 -para-homenagens-mulheres-que-inspiram
END:VEVENT
BEGIN:VTIMEZONE
TZID:Brazil/East
X-LIC-LOCATION:Brazil/East
BEGIN:STANDARD
DTSTART;VALUE=DATE-TIME:20230225T230000
TZNAME:BRT
TZOFFSETFROM:-0200
TZOFFSETTO:-0300
END:STANDARD
END:VTIMEZONE
END:VCALENDAR
