BEGIN:VCALENDAR
VERSION:2.0
PRODID:-//Plone.org//NONSGML plone.app.event//EN
X-WR-TIMEZONE:Brazil/East
BEGIN:VEVENT
SUMMARY:SESSÃO ESPECIAL PARA  HOMENAGEAR TÉCNICOS EM NUTRIÇÃO E NUTRIC
 IONISTAS.
DTSTART;TZID=Brazil/East;VALUE=DATE-TIME:20240409T190000
DTEND;TZID=Brazil/East;VALUE=DATE-TIME:20240409T220000
DTSTAMP;VALUE=DATE-TIME:20260420T004313Z
UID:6acacec89121444299d91eef4eece9a8@www.goiania.go.leg.br
CONTACT:VEREADOR ANDERSON SALES - BOKÃO
CREATED;VALUE=DATE-TIME:20240222T131120Z
LAST-MODIFIED;VALUE=DATE-TIME:20240222T131129Z
LOCATION:PLENÁRIO TRAJANO GUIMARÃES
URL:https://www.goiania.go.leg.br/sala-de-imprensa/eventos/sessao-especial
 -para-homenagear-tecnicos-em-nutricao-e-nutricionistas
END:VEVENT
BEGIN:VTIMEZONE
TZID:Brazil/East
X-LIC-LOCATION:Brazil/East
BEGIN:STANDARD
DTSTART;VALUE=DATE-TIME:20240217T230000
TZNAME:BRT
TZOFFSETFROM:-0200
TZOFFSETTO:-0300
END:STANDARD
END:VTIMEZONE
END:VCALENDAR
