BEGIN:VCALENDAR
VERSION:2.0
PRODID:-//Plone.org//NONSGML plone.app.event//EN
X-WR-TIMEZONE:Brazil/East
BEGIN:VEVENT
SUMMARY:SESSÃO ESPECIAL PARA HOMENAGEAR OS MÉDICOS EMPREENDEDORES QUE DE
 SENVOLVEM  UM TRABALHO EM PROL A POPULAÇÃO GOIANA.
DTSTART;TZID=Brazil/East;VALUE=DATE-TIME:20230620T190000
DTEND;TZID=Brazil/East;VALUE=DATE-TIME:20230620T210000
DTSTAMP;VALUE=DATE-TIME:20260419T233321Z
UID:10aacd855f9b47329479d444baf587f9@www.goiania.go.leg.br
CONTACT:VEREADOR IGOR FRANCO
CREATED;VALUE=DATE-TIME:20230526T135836Z
LAST-MODIFIED;VALUE=DATE-TIME:20230619T140631Z
LOCATION:PLENÁRIO TRAJANO GUIMARÃES
URL:https://www.goiania.go.leg.br/sala-de-imprensa/eventos/sessao-especial
 -para-homenagear-os-medicos-empreendedores-que-desenvolvem-um-trabalho-em-
 prol-a-populacao-goiana
END:VEVENT
BEGIN:VTIMEZONE
TZID:Brazil/East
X-LIC-LOCATION:Brazil/East
BEGIN:STANDARD
DTSTART;VALUE=DATE-TIME:20230225T230000
TZNAME:BRT
TZOFFSETFROM:-0200
TZOFFSETTO:-0300
END:STANDARD
END:VTIMEZONE
END:VCALENDAR
