BEGIN:VCALENDAR
VERSION:2.0
PRODID:-//Plone.org//NONSGML plone.app.event//EN
X-WR-TIMEZONE:Brazil/East
BEGIN:VEVENT
SUMMARY:SESSÃO ESPECIAL PARA HOMENAGEAR OS EVANGÉLICOS QUE ATUARAM NA PA
 NDEMIA.
DTSTART;TZID=Brazil/East;VALUE=DATE-TIME:20220322T170000
DTEND;TZID=Brazil/East;VALUE=DATE-TIME:20220322T190000
DTSTAMP;VALUE=DATE-TIME:20260419T174431Z
UID:13abcb5201014823932c9db20e59fc6c@www.goiania.go.leg.br
CONTACT:VEREADOR ISAÍAS RIBEIRO
CREATED;VALUE=DATE-TIME:20220201T110313Z
LAST-MODIFIED;VALUE=DATE-TIME:20220215T125420Z
LOCATION:PLENÁRIO TRAJANO GUIMARÃES
URL:https://www.goiania.go.leg.br/sala-de-imprensa/eventos/sessao-especial
 -para-homenagear-os-evangelicos-que-atuaram-na-pandemia
END:VEVENT
BEGIN:VTIMEZONE
TZID:Brazil/East
X-LIC-LOCATION:Brazil/East
BEGIN:STANDARD
DTSTART;VALUE=DATE-TIME:20220219T230000
TZNAME:BRT
TZOFFSETFROM:-0200
TZOFFSETTO:-0300
END:STANDARD
END:VTIMEZONE
END:VCALENDAR
