BEGIN:VCALENDAR
VERSION:2.0
PRODID:-//Plone.org//NONSGML plone.app.event//EN
X-WR-TIMEZONE:Brazil/East
BEGIN:VEVENT
SUMMARY:SESSÃO ESPECIAL MULHERES DE DESTAQUE.
DTSTART;TZID=Brazil/East;VALUE=DATE-TIME:20180309T193000
DTEND;TZID=Brazil/East;VALUE=DATE-TIME:20180309T220000
DTSTAMP;VALUE=DATE-TIME:20260420T003417Z
UID:fde2bd6e1edc40f894d09820317689d4@www.goiania.go.leg.br
CONTACT:VEREADORA SABRINA GARCÊZ
CREATED;VALUE=DATE-TIME:20180219T133948Z
LAST-MODIFIED;VALUE=DATE-TIME:20180219T133955Z
LOCATION:PLENÁRIO TRAJANO GUIMARÃES
URL:https://www.goiania.go.leg.br/sala-de-imprensa/eventos/sessao-especial
 -mulheres-de-destaque
END:VEVENT
BEGIN:VTIMEZONE
TZID:Brazil/East
X-LIC-LOCATION:Brazil/East
BEGIN:STANDARD
DTSTART;VALUE=DATE-TIME:20180217T230000
TZNAME:BRT
TZOFFSETFROM:-0200
TZOFFSETTO:-0300
END:STANDARD
END:VTIMEZONE
END:VCALENDAR
