BEGIN:VCALENDAR
VERSION:2.0
PRODID:-//Plone.org//NONSGML plone.app.event//EN
X-WR-TIMEZONE:Brazil/East
BEGIN:VEVENT
SUMMARY:SESSÃO ESPECIAL MEM HOMENAGEM AOS ATLETAS E EX-ATLETAS.
DTSTART;TZID=Brazil/East;VALUE=DATE-TIME:20260305T190000
DTEND;TZID=Brazil/East;VALUE=DATE-TIME:20260305T220000
DTSTAMP;VALUE=DATE-TIME:20260420T004157Z
UID:427da685c15144679387f09fa0b864e4@www.goiania.go.leg.br
CONTACT:VEREADOR ISAÍAS RIBEIRO
CREATED;VALUE=DATE-TIME:20260202T112256Z
LAST-MODIFIED;VALUE=DATE-TIME:20260205T212148Z
LOCATION:AUDITORIO JAIME CÂMARA
URL:https://www.goiania.go.leg.br/sala-de-imprensa/eventos/sessao-especial
 -mem-homenagem-aos-atletas-e-ex-atletas
END:VEVENT
BEGIN:VTIMEZONE
TZID:Brazil/East
X-LIC-LOCATION:Brazil/East
BEGIN:STANDARD
DTSTART;VALUE=DATE-TIME:20260221T230000
TZNAME:BRT
TZOFFSETFROM:-0200
TZOFFSETTO:-0300
END:STANDARD
END:VTIMEZONE
END:VCALENDAR
