BEGIN:VCALENDAR
VERSION:2.0
PRODID:-//Plone.org//NONSGML plone.app.event//EN
X-WR-TIMEZONE:Brazil/East
BEGIN:VEVENT
SUMMARY:SESSÃO ESPECIAL MÃOS FRATERNAS 
DTSTART;TZID=Brazil/East;VALUE=DATE-TIME:20180928T193000
DTEND;TZID=Brazil/East;VALUE=DATE-TIME:20180928T220000
DTSTAMP;VALUE=DATE-TIME:20260422T054525Z
UID:d904094714c9497e9e64af8431f95f34@www.goiania.go.leg.br
CONTACT:VEREADORA DRA. CRISTINA LOPES AFONSO
CREATED;VALUE=DATE-TIME:20180711T140042Z
LAST-MODIFIED;VALUE=DATE-TIME:20180711T140100Z
LOCATION:PLENÁRIO TRAJANO GUIMARÃES
URL:https://www.goiania.go.leg.br/sala-de-imprensa/eventos/sessao-especial
 -maos-fraternas
END:VEVENT
BEGIN:VTIMEZONE
TZID:Brazil/East
X-LIC-LOCATION:Brazil/East
BEGIN:STANDARD
DTSTART;VALUE=DATE-TIME:20180217T230000
TZNAME:BRT
TZOFFSETFROM:-0200
TZOFFSETTO:-0300
END:STANDARD
END:VTIMEZONE
END:VCALENDAR
