BEGIN:VCALENDAR
VERSION:2.0
PRODID:-//Plone.org//NONSGML plone.app.event//EN
X-WR-TIMEZONE:Brazil/East
BEGIN:VEVENT
SUMMARY:SESSÃO ESPECIAL HOMENAGEM AOS VOLUNTÁRIOS DO PROJETO PARQUE AZUL
 .
DTSTART;TZID=Brazil/East;VALUE=DATE-TIME:20210429T170000
DTEND;TZID=Brazil/East;VALUE=DATE-TIME:20210429T210000
DTSTAMP;VALUE=DATE-TIME:20260420T004335Z
UID:a4d7f388ca9c4f8ab428f8d532d7c90f@www.goiania.go.leg.br
CONTACT:VEREADOR LUCAS KITÃO
CREATED;VALUE=DATE-TIME:20210112T110606Z
LAST-MODIFIED;VALUE=DATE-TIME:20210414T125130Z
LOCATION:PLENÁRIO TRAJANO GUIMARÃES
URL:https://www.goiania.go.leg.br/sala-de-imprensa/eventos/sessao-especial
 -homenagem-aos-voluntarios-do-projeto-parque-azul
END:VEVENT
BEGIN:VTIMEZONE
TZID:Brazil/East
X-LIC-LOCATION:Brazil/East
BEGIN:STANDARD
DTSTART;VALUE=DATE-TIME:20210220T230000
TZNAME:BRT
TZOFFSETFROM:-0200
TZOFFSETTO:-0300
END:STANDARD
END:VTIMEZONE
END:VCALENDAR
