BEGIN:VCALENDAR
VERSION:2.0
PRODID:-//Plone.org//NONSGML plone.app.event//EN
X-WR-TIMEZONE:Brazil/East
BEGIN:VEVENT
SUMMARY:Sessão Especial Homenagem aos 80 anos do Atlético Clube Goianien
 se
DTSTART;TZID=Brazil/East;VALUE=DATE-TIME:20170403T090000
DTEND;TZID=Brazil/East;VALUE=DATE-TIME:20170403T120000
DTSTAMP;VALUE=DATE-TIME:20260420T004335Z
UID:488eecc39c09426f82fa613a25c6eaa8@www.goiania.go.leg.br
CONTACT:Ver. Paulo Magalhães
CREATED;VALUE=DATE-TIME:20171208T111312Z
LAST-MODIFIED;VALUE=DATE-TIME:20171208T112928Z
LOCATION:Plenário da Câmara
URL:https://www.goiania.go.leg.br/sala-de-imprensa/eventos/sessao-especial
 -homenagem-aos-80-anos-do-atletico-clube-goianiense
END:VEVENT
BEGIN:VTIMEZONE
TZID:Brazil/East
X-LIC-LOCATION:Brazil/East
BEGIN:STANDARD
DTSTART;VALUE=DATE-TIME:20170218T230000
TZNAME:BRT
TZOFFSETFROM:-0200
TZOFFSETTO:-0300
END:STANDARD
END:VTIMEZONE
END:VCALENDAR
