BEGIN:VCALENDAR
VERSION:2.0
PRODID:-//Plone.org//NONSGML plone.app.event//EN
X-WR-TIMEZONE:Brazil/East
BEGIN:VEVENT
SUMMARY:SESSÃO ESPECIAL HÍBRIDA PARA ENTREGA DO 11º PRÊMIO MAIS INFLUE
 NTES DA POLÍTICA EM GOIÁS.
DTSTART;TZID=Brazil/East;VALUE=DATE-TIME:20210510T190000
DTEND;TZID=Brazil/East;VALUE=DATE-TIME:20210510T220000
DTSTAMP;VALUE=DATE-TIME:20260420T004731Z
UID:aecd54b17c1844d2b2eacd9a0d24a01c@www.goiania.go.leg.br
CONTACT:VEREADOR ANSELMO PEREIRA
CREATED;VALUE=DATE-TIME:20210219T152432Z
LAST-MODIFIED;VALUE=DATE-TIME:20210408T115732Z
LOCATION:PLENÁRIO TRAJANO GUIMARÃES
URL:https://www.goiania.go.leg.br/sala-de-imprensa/eventos/sessao-especial
 -hibrida-para-entrega-do-11o-premio-mais-influentes-da-politica-em-goias
END:VEVENT
BEGIN:VTIMEZONE
TZID:Brazil/East
X-LIC-LOCATION:Brazil/East
BEGIN:STANDARD
DTSTART;VALUE=DATE-TIME:20210220T230000
TZNAME:BRT
TZOFFSETFROM:-0200
TZOFFSETTO:-0300
END:STANDARD
END:VTIMEZONE
END:VCALENDAR
