BEGIN:VCALENDAR
VERSION:2.0
PRODID:-//Plone.org//NONSGML plone.app.event//EN
X-WR-TIMEZONE:Brazil/East
BEGIN:VEVENT
SUMMARY:SESSÃO ESPECIAL EM RECONHECIMENTO ÀS MULHERES DE SUCESSO NA ATIV
 IDADE DE EMPREENDEDORISMO NO MUNICÍPIO DE GOIÂNIA.
DTSTART;TZID=Brazil/East;VALUE=DATE-TIME:20190909T193000
DTEND;TZID=Brazil/East;VALUE=DATE-TIME:20190909T220000
DTSTAMP;VALUE=DATE-TIME:20260420T004822Z
UID:f69313a68681418f806a51a7f4c8c6d1@www.goiania.go.leg.br
CONTACT:VEREADOR ANSELMO  PEREIRA
CREATED;VALUE=DATE-TIME:20190801T150628Z
LAST-MODIFIED;VALUE=DATE-TIME:20190801T150636Z
LOCATION:AUDITÓRIO CARLOS EURICO
URL:https://www.goiania.go.leg.br/sala-de-imprensa/eventos/sessao-especial
 -em-reconhecimento-as-mulheres-de-sucesso-na-atividade-de-empreendedorismo
 -no-municipio-de-goiania
END:VEVENT
BEGIN:VTIMEZONE
TZID:Brazil/East
X-LIC-LOCATION:Brazil/East
BEGIN:STANDARD
DTSTART;VALUE=DATE-TIME:20190216T230000
TZNAME:BRT
TZOFFSETFROM:-0200
TZOFFSETTO:-0300
END:STANDARD
END:VTIMEZONE
END:VCALENDAR
