BEGIN:VCALENDAR
VERSION:2.0
PRODID:-//Plone.org//NONSGML plone.app.event//EN
X-WR-TIMEZONE:Brazil/East
BEGIN:VEVENT
SUMMARY:SESSÃO ESPECIAL EM HOMENAGENS AOS 500 ANOS DE REFORMA PROTESTANTE
 .
DTSTART;TZID=Brazil/East;VALUE=DATE-TIME:20171030T193000
DTEND;TZID=Brazil/East;VALUE=DATE-TIME:20171030T220000
DTSTAMP;VALUE=DATE-TIME:20260420T103312Z
UID:14ea75e61e4248bca6df12ba5abaa31f@www.goiania.go.leg.br
CONTACT:VEREADOR VINICIUS CIRQUEIRA
CREATED;VALUE=DATE-TIME:20171208T111313Z
LAST-MODIFIED;VALUE=DATE-TIME:20171208T112937Z
LOCATION:PLENÁRIO TRAJANO GUIMARÃES
URL:https://www.goiania.go.leg.br/sala-de-imprensa/eventos/sessao-especial
 -em-homenagens-aos-500-anos-de-reforma-protestante
END:VEVENT
BEGIN:VTIMEZONE
TZID:Brazil/East
X-LIC-LOCATION:Brazil/East
BEGIN:DAYLIGHT
DTSTART;VALUE=DATE-TIME:20171015T010000
TZNAME:BRST
TZOFFSETFROM:-0300
TZOFFSETTO:-0200
END:DAYLIGHT
END:VTIMEZONE
END:VCALENDAR
