BEGIN:VCALENDAR
VERSION:2.0
PRODID:-//Plone.org//NONSGML plone.app.event//EN
X-WR-TIMEZONE:Brazil/East
BEGIN:VEVENT
SUMMARY:SESSÃO ESPECIAL EM HOMENAGEM AOS GRUPOS DE AUTO AJUDA E COMUNIDAD
 ES TERAPÊUTICAS
DTSTART;TZID=Brazil/East;VALUE=DATE-TIME:20230516T170000
DTEND;TZID=Brazil/East;VALUE=DATE-TIME:20230516T190000
DTSTAMP;VALUE=DATE-TIME:20260421T072932Z
UID:78c681dcd7164f1b9ffb21b2d8acaff3@www.goiania.go.leg.br
CONTACT:VEREADOR KLEYBE MORAIS
CREATED;VALUE=DATE-TIME:20230207T141113Z
LAST-MODIFIED;VALUE=DATE-TIME:20230419T185307Z
LOCATION:PLENÁRIO TRAJANO GUIMARÃES
URL:https://www.goiania.go.leg.br/sala-de-imprensa/eventos/sessao-especial
 -em-homenagem-os-grupos-anti-drogas
END:VEVENT
BEGIN:VTIMEZONE
TZID:Brazil/East
X-LIC-LOCATION:Brazil/East
BEGIN:STANDARD
DTSTART;VALUE=DATE-TIME:20230225T230000
TZNAME:BRT
TZOFFSETFROM:-0200
TZOFFSETTO:-0300
END:STANDARD
END:VTIMEZONE
END:VCALENDAR
