BEGIN:VCALENDAR
VERSION:2.0
PRODID:-//Plone.org//NONSGML plone.app.event//EN
X-WR-TIMEZONE:Brazil/East
BEGIN:VEVENT
SUMMARY:SESSÃO ESPECIAL EM HOMENAGEM "LIDERANÇAS DE BAIRRO".
DTSTART;TZID=Brazil/East;VALUE=DATE-TIME:20250529T190000
DTEND;TZID=Brazil/East;VALUE=DATE-TIME:20250529T220000
DTSTAMP;VALUE=DATE-TIME:20260421T055447Z
UID:0f2d4a1d2e7f43038ce69d91e306a1f4@www.goiania.go.leg.br
CONTACT:VEREADOR JUAREZ LOPES
CREATED;VALUE=DATE-TIME:20250213T115243Z
LAST-MODIFIED;VALUE=DATE-TIME:20250320T123745Z
LOCATION:PLENÁRIO TRAJANO GUIMARÃES
URL:https://www.goiania.go.leg.br/sala-de-imprensa/eventos/sessao-especial
 -em-homenagem-lideraancas-de-bairro
END:VEVENT
BEGIN:VTIMEZONE
TZID:Brazil/East
X-LIC-LOCATION:Brazil/East
BEGIN:STANDARD
DTSTART;VALUE=DATE-TIME:20250215T230000
TZNAME:BRT
TZOFFSETFROM:-0200
TZOFFSETTO:-0300
END:STANDARD
END:VTIMEZONE
END:VCALENDAR
