BEGIN:VCALENDAR
VERSION:2.0
PRODID:-//Plone.org//NONSGML plone.app.event//EN
X-WR-TIMEZONE:Brazil/East
BEGIN:VEVENT
SUMMARY:SESSÃO ESPECIAL EM HOMENAGEM EM RESPEITO AO DIA NACIONAL DE ZUMBI
  E DA CONSCIÊNCIA NEGRA.
DTSTART;TZID=Brazil/East;VALUE=DATE-TIME:20251117T190000
DTEND;TZID=Brazil/East;VALUE=DATE-TIME:20251117T220000
DTSTAMP;VALUE=DATE-TIME:20260421T112331Z
UID:5e1f4a4eb7294a14bf245795bc3f2893@www.goiania.go.leg.br
CONTACT:VEREADOR FABRICIO ROSA
CREATED;VALUE=DATE-TIME:20250219T124049Z
LAST-MODIFIED;VALUE=DATE-TIME:20250219T124103Z
LOCATION:AUDITÓRIO JAIME CÂMARA
URL:https://www.goiania.go.leg.br/sala-de-imprensa/eventos/sessao-especial
 -em-homenagem-em-respeito-ao-dia-nacional-de-zumbi-e-da-consciencia-negra
END:VEVENT
BEGIN:VTIMEZONE
TZID:Brazil/East
X-LIC-LOCATION:Brazil/East
BEGIN:DAYLIGHT
DTSTART;VALUE=DATE-TIME:20251019T010000
TZNAME:BRST
TZOFFSETFROM:-0300
TZOFFSETTO:-0200
END:DAYLIGHT
END:VTIMEZONE
END:VCALENDAR
