BEGIN:VCALENDAR
VERSION:2.0
PRODID:-//Plone.org//NONSGML plone.app.event//EN
X-WR-TIMEZONE:Brazil/East
BEGIN:VEVENT
SUMMARY:SESSÃO ESPECIAL EM HOMENAGEM EM RESPEITO AO DIA GOIANO DA MACONHA
  MEDICINAL.
DTSTART;TZID=Brazil/East;VALUE=DATE-TIME:20251127T190000
DTEND;TZID=Brazil/East;VALUE=DATE-TIME:20251127T220000
DTSTAMP;VALUE=DATE-TIME:20260422T065844Z
UID:605bf257683a43bda680f05f126e462a@www.goiania.go.leg.br
CONTACT:VEREADOR FABRICIO ROSA
CREATED;VALUE=DATE-TIME:20250219T122422Z
LAST-MODIFIED;VALUE=DATE-TIME:20250219T122439Z
LOCATION:AUDITÓRIO JAIME CÂMARA
URL:https://www.goiania.go.leg.br/sala-de-imprensa/eventos/sessao-especial
 -em-homenagem-em-respeito-ao-dia-goiano-da-maconha-medicinal
END:VEVENT
BEGIN:VTIMEZONE
TZID:Brazil/East
X-LIC-LOCATION:Brazil/East
BEGIN:DAYLIGHT
DTSTART;VALUE=DATE-TIME:20251019T010000
TZNAME:BRST
TZOFFSETFROM:-0300
TZOFFSETTO:-0200
END:DAYLIGHT
END:VTIMEZONE
END:VCALENDAR
