BEGIN:VCALENDAR
VERSION:2.0
PRODID:-//Plone.org//NONSGML plone.app.event//EN
X-WR-TIMEZONE:Brazil/East
BEGIN:VEVENT
SUMMARY:SESSÃO ESPECIAL EM HOMENAGEM ÀS  POLICIAIS FEMININAS.
DTSTART;TZID=Brazil/East;VALUE=DATE-TIME:20241021T170000
DTEND;TZID=Brazil/East;VALUE=DATE-TIME:20241021T190000
DTSTAMP;VALUE=DATE-TIME:20260421T054106Z
UID:271465cf040349e69f5713c2b751d378@www.goiania.go.leg.br
CONTACT:VEREADOR THIALU GUIOTTI
CREATED;VALUE=DATE-TIME:20240205T142718Z
LAST-MODIFIED;VALUE=DATE-TIME:20240205T142729Z
LOCATION:PLENÁRIO TRAJANO GUIMARÃES
URL:https://www.goiania.go.leg.br/sala-de-imprensa/eventos/sessao-especial
 -em-homenagem-as-policiais-femininas-1
END:VEVENT
BEGIN:VTIMEZONE
TZID:Brazil/East
X-LIC-LOCATION:Brazil/East
BEGIN:DAYLIGHT
DTSTART;VALUE=DATE-TIME:20241020T010000
TZNAME:BRST
TZOFFSETFROM:-0300
TZOFFSETTO:-0200
END:DAYLIGHT
END:VTIMEZONE
END:VCALENDAR
