BEGIN:VCALENDAR
VERSION:2.0
PRODID:-//Plone.org//NONSGML plone.app.event//EN
X-WR-TIMEZONE:Brazil/East
BEGIN:VEVENT
SUMMARY:SESSÃO ESPECIAL EM HOMENAGEM AS PERSONALIDADES DE DESTAQUE DO FUT
 EBOL DE VÁRZEA.
DTSTART;TZID=Brazil/East;VALUE=DATE-TIME:20260416T170000
DTEND;TZID=Brazil/East;VALUE=DATE-TIME:20260416T210000
DTSTAMP;VALUE=DATE-TIME:20260419T093743Z
UID:728ec06ff74d4936873db9dbb663414e@www.goiania.go.leg.br
CONTACT:VEREADOR SARGENTO NOVANDIR
CREATED;VALUE=DATE-TIME:20260318T150703Z
LAST-MODIFIED;VALUE=DATE-TIME:20260318T150715Z
LOCATION:AUDITÓRIO JAIME CÂMARA
URL:https://www.goiania.go.leg.br/sala-de-imprensa/eventos/sessao-especial
 -em-homenagem-as-personalidades-de-destaque-do-futebol-de-varzea
END:VEVENT
BEGIN:VTIMEZONE
TZID:Brazil/East
X-LIC-LOCATION:Brazil/East
BEGIN:STANDARD
DTSTART;VALUE=DATE-TIME:20260221T230000
TZNAME:BRT
TZOFFSETFROM:-0200
TZOFFSETTO:-0300
END:STANDARD
END:VTIMEZONE
END:VCALENDAR
